BEGIN:VCALENDAR
VERSION:2.0
PRODID:-//Panjab 1st - ECPv6.2.7//NONSGML v1.0//EN
CALSCALE:GREGORIAN
METHOD:PUBLISH
X-ORIGINAL-URL:https://panjabfirst.com
X-WR-CALDESC:Events for Panjab 1st
REFRESH-INTERVAL;VALUE=DURATION:PT1H
X-Robots-Tag:noindex
X-PUBLISHED-TTL:PT1H
BEGIN:VTIMEZONE
TZID:Asia/Dili
BEGIN:STANDARD
TZOFFSETFROM:+0900
TZOFFSETTO:+0900
TZNAME:+09
DTSTART:20230101T000000
END:STANDARD
END:VTIMEZONE
BEGIN:VEVENT
DTSTART;TZID=Asia/Dili:20231126T080000
DTEND;TZID=Asia/Dili:20231128T170000
DTSTAMP:20260423T071349
CREATED:20231129T145904Z
LAST-MODIFIED:20231129T145904Z
UID:1203-1700985600-1701190800@panjabfirst.com
SUMMARY:Samyukt Kisan Morcha to hold 3-day protest to press Centre over pending demands
DESCRIPTION:The Samyukt Kisan Morcha\, which spearheaded a protest against the now-repealed three farm laws\, on Wednesday announced a three-day protest starting November 26 to press the Centre to accept their pending demands\, including a legal guarantee for MSP.\n\nFarmers will hold an agitation against the non-acceptance of their pending demands\,\n\n\nWhich include the withdrawal of cases registered against farmers during the year-long stir against the now-repealed farm laws\,\ncompensation and jobs for one of the family members of farmers who died during the stir\,\ndebt waiver and pension for farmers.\n\nSource: Samyukt Kisan Morcha to hold 3-day protest from November 26 to press Centre over pending demands : The Tribune India
URL:https://panjabfirst.com/morcha/samyukt-kisan-morcha-to-hold-3-day-protest-to-press-centre-over-pending-demands/
LOCATION:Chandigarh Mohali Border\, Chandigarh Mohali Border\, Mohali\, Panjab\, India
CATEGORIES:March,Protest,Rally
END:VEVENT
END:VCALENDAR